BEGIN:VCALENDAR
VERSION:2.0
PRODID:-//Curling Club Lugano - ECPv6.15.20//NONSGML v1.0//EN
CALSCALE:GREGORIAN
METHOD:PUBLISH
X-ORIGINAL-URL:https://cclugano.ch
X-WR-CALDESC:Eventi per Curling Club Lugano
REFRESH-INTERVAL;VALUE=DURATION:PT1H
X-Robots-Tag:noindex
X-PUBLISHED-TTL:PT1H
BEGIN:VTIMEZONE
TZID:Europe/Zurich
BEGIN:DAYLIGHT
TZOFFSETFROM:+0100
TZOFFSETTO:+0200
TZNAME:CEST
DTSTART:20250330T010000
END:DAYLIGHT
BEGIN:STANDARD
TZOFFSETFROM:+0200
TZOFFSETTO:+0100
TZNAME:CET
DTSTART:20251026T010000
END:STANDARD
BEGIN:DAYLIGHT
TZOFFSETFROM:+0100
TZOFFSETTO:+0200
TZNAME:CEST
DTSTART:20260329T010000
END:DAYLIGHT
BEGIN:STANDARD
TZOFFSETFROM:+0200
TZOFFSETTO:+0100
TZNAME:CET
DTSTART:20261025T010000
END:STANDARD
BEGIN:DAYLIGHT
TZOFFSETFROM:+0100
TZOFFSETTO:+0200
TZNAME:CEST
DTSTART:20270328T010000
END:DAYLIGHT
BEGIN:STANDARD
TZOFFSETFROM:+0200
TZOFFSETTO:+0100
TZNAME:CET
DTSTART:20271031T010000
END:STANDARD
END:VTIMEZONE
BEGIN:VEVENT
DTSTART;TZID=Europe/Zurich:20260308T080000
DTEND;TZID=Europe/Zurich:20260308T190000
DTSTAMP:20260425T001519
CREATED:20220730T151615Z
LAST-MODIFIED:20251022T071242Z
UID:3640-1772956800-1772996400@cclugano.ch
SUMMARY:14° Trofeo "Città di Lugano" 2026
DESCRIPTION:14° Trofeo “Città di Lugano” – 8 marzo 2026
URL:https://cclugano.ch/eventi/13-trofeo-citta-di-lugano-2025/
LOCATION:Cornèr Arena\, Via Chiosso 8\, Porza\, TI\, 6948\, Switzerland
CATEGORIES:Tornei
ATTACH;FMTTYPE=image/jpeg:https://cclugano.ch/wp-content/uploads/2023/05/IMG_8865.jpg
ORGANIZER;CN="Curling Club Lugano":MAILTO:info@cclugano.ch
END:VEVENT
END:VCALENDAR